BEGIN:VCALENDAR
VERSION:2.0
PRODID:Imitheme.com 
BEGIN:VEVENT
UID:20260421T0724332082491560
DTSTAMP;TZID=UTC:20260421T072433
DTSTART;TZID=UTC:20261116T072400
DTEND;TZID=UTC:20261116T072400
SUMMARY:Besuchskreis
LOCATION:
DESCRIPTION:  Besuchskreis InteressentInnen mögen sich bitte zwecks vorheriger Rücksprache mit Ursula Kratky über die Pfarrkanzlei in Verbindung setzen.
END:VEVENT
END:VCALENDAR
