BEGIN:VCALENDAR
VERSION:2.0
PRODID:Imitheme.com 
BEGIN:VEVENT
UID:20260421T1158191199909568
DTSTAMP;TZID=UTC:20260421T115819
DTSTART;TZID=UTC:20261116T115800
DTEND;TZID=UTC:20261116T115800
SUMMARY:Online-Gottesdienst von Pfr. Johannes Wittich zum Nachlesen und -hören auf der Homepage\, Kirche geschlossen
LOCATION:
DESCRIPTION:[caption id=\"attachment_3702\" align=\"alignnone\" width=\"225\"] Johannes Wittich[/caption] Gottesdienst von Pfr. Johannes Wittich zum Nachlesen und -hören auf der Homepage\, Kirche geschlossen &nbsp\;
END:VEVENT
END:VCALENDAR
