BEGIN:VCALENDAR
VERSION:2.0
PRODID:Imitheme.com 
BEGIN:VEVENT
UID:20260422T1228071381211327
DTSTAMP;TZID=UTC:20260422T122807
DTSTART;TZID=UTC:20261116T122800
DTEND;TZID=UTC:20261116T122800
SUMMARY:Gottesdienst mit Gerti Rohrmoser
LOCATION:
DESCRIPTION:[caption id=\"attachment_2250\" align=\"alignnone\" width=\"300\"] Gerti Rohrmoser[/caption] mit Gerti Rohrmoser GastgeberIn\: Dagmar Pfirstinger OrganistIn\: Martin A. Seidl Gemeindekaffee\: Kein Gemeindekaffee &nbsp\;
END:VEVENT
END:VCALENDAR
