BEGIN:VCALENDAR
VERSION:2.0
PRODID:Imitheme.com 
BEGIN:VEVENT
UID:20260421T11582141621750
DTSTAMP;TZID=UTC:20260421T115821
DTSTART;TZID=UTC:20261116T115800
DTEND;TZID=UTC:20261116T115800
SUMMARY:Musikalischer Gottesdienst mit Vikarin Livia Wonnerth-Stiller
LOCATION:
DESCRIPTION:[caption id=\"attachment_9691\" align=\"alignnone\" width=\"225\"] Vikarin Livia Wonnerth-Stiller[/caption] mit Vikarin Livia Wonnerth-Stiller GastgeberIn\: Jolana Antal OrganistIn\: Marianne und Ernst Kubitschek Gemeindekaffee\: Kein Gemeindekaffee &nbsp\;
END:VEVENT
END:VCALENDAR
