BEGIN:VCALENDAR
VERSION:2.0
PRODID:Imitheme.com 
BEGIN:VEVENT
UID:20260422T110428529660480
DTSTAMP;TZID=UTC:20260422T110428
DTSTART;TZID=UTC:20261116T110400
DTEND;TZID=UTC:20261116T110400
SUMMARY:Gottesdienst mit Ulrike Wittich
LOCATION:
DESCRIPTION:[caption id=\"attachment_3712\" align=\"alignnone\" width=\"203\"] Ulrike Wittich[/caption] mit Ulrike Wittich GastgeberIn\: Gerti Seper OrganistIn\: Martin A. Seidl Gemeindekaffee\: Kein Gemeindekaffee &nbsp\;
END:VEVENT
END:VCALENDAR
