BEGIN:VCALENDAR
VERSION:2.0
PRODID:Imitheme.com 
BEGIN:VEVENT
UID:20260422T1227241070199653
DTSTAMP;TZID=UTC:20260422T122724
DTSTART;TZID=UTC:20261116T122700
DTEND;TZID=UTC:20261116T122700
SUMMARY:Penguin’s Club\, Sing my song
LOCATION:
DESCRIPTION:Penguin’s Club\: Thema\: Sing my song Derzeit ist noch offen\, ob wir uns am Wielandplatz treffen oder doch eher über Videokonferenz. Dies wird aber zeitnah bekannt gegeben. &nbsp\;
END:VEVENT
END:VCALENDAR
