BEGIN:VCALENDAR
VERSION:2.0
PRODID:Imitheme.com 
BEGIN:VEVENT
UID:20260422T110427400233905
DTSTAMP;TZID=UTC:20260422T110427
DTSTART;TZID=UTC:20261116T110400
DTEND;TZID=UTC:20261116T110400
SUMMARY:Penguin’s Club\, Glaubensbekenntnis / online
LOCATION:
DESCRIPTION:Penguin’s Club\: Thema\: Glaubensbekenntnis &nbsp\;
END:VEVENT
END:VCALENDAR
