BEGIN:VCALENDAR
VERSION:2.0
PRODID:Imitheme.com 
BEGIN:VEVENT
UID:20260421T115821742148848
DTSTAMP;TZID=UTC:20260421T115821
DTSTART;TZID=UTC:20261116T115800
DTEND;TZID=UTC:20261116T115800
SUMMARY:Gottesdienst mit Pfr. Thomas Hennefeld\, Kanzeltauschgottesdienst (Pfingsten)
LOCATION:
DESCRIPTION:mit Pfr. Thomas Hennefeld\, Kanzeltauschgottesdienst (Pfingsten) GastgeberIn\: Gerti Seper OrganistIn\: Juliane Schleehahn Gemeindekaffee\:  &nbsp\;
END:VEVENT
END:VCALENDAR
