BEGIN:VCALENDAR
VERSION:2.0
PRODID:Imitheme.com 
BEGIN:VEVENT
UID:20260425T1344491781780097
DTSTAMP;TZID=UTC:20260425T134449
DTSTART;TZID=UTC:20261116T134400
DTEND;TZID=UTC:20261116T134400
SUMMARY:3. Session der XV. Generalsynode
LOCATION:
DESCRIPTION:3. Session der XV. Generalsynode &nbsp\;
END:VEVENT
END:VCALENDAR
