BEGIN:VCALENDAR
VERSION:2.0
PRODID:Imitheme.com 
BEGIN:VEVENT
UID:20260422T1226451489000071
DTSTAMP;TZID=UTC:20260422T122645
DTSTART;TZID=UTC:20261116T122600
DTEND;TZID=UTC:20261116T122600
SUMMARY:Ungarische Bibelstunde / online
LOCATION:
DESCRIPTION:Wir treffen uns mit Pfr. Károly Nagy\, diesmal über WhatsApp.
END:VEVENT
END:VCALENDAR
