BEGIN:VCALENDAR
VERSION:2.0
PRODID:Imitheme.com 
BEGIN:VEVENT
UID:20260421T1158221002719759
DTSTAMP;TZID=UTC:20260421T115822
DTSTART;TZID=UTC:20261116T115800
DTEND;TZID=UTC:20261116T115800
SUMMARY:Ungarische Bibelstunde
LOCATION:
DESCRIPTION:Wir treffen uns mit Pfr. Károly Nagy\, immer Dienstags in unserem Gemeindesaal.
END:VEVENT
END:VCALENDAR
