BEGIN:VCALENDAR
VERSION:2.0
PRODID:Imitheme.com 
BEGIN:VEVENT
UID:20260421T115820549977968
DTSTAMP;TZID=UTC:20260421T115820
DTSTART;TZID=UTC:20261116T115800
DTEND;TZID=UTC:20261116T115800
SUMMARY:Frauen-Bibelgespräche / Wegen COVID-19 ABGESAGT
LOCATION:
DESCRIPTION:Wegen COVID-19 ABGESAGT. Dienstags\, um 16 Uhr im Gemeindesaal. Wir beschäftigen uns mit Grundfragen des Glaubens. Herzliche Einladung! &nbsp\;
END:VEVENT
END:VCALENDAR
