BEGIN:VCALENDAR
VERSION:2.0
PRODID:Imitheme.com 
BEGIN:VEVENT
UID:20260421T1159232051231560
DTSTAMP;TZID=UTC:20260421T115923
DTSTART;TZID=UTC:20261116T115900
DTEND;TZID=UTC:20261116T115900
SUMMARY:Frauen-Bibelgespräche / Wegen COVID-19 ABGESAGT
LOCATION:
DESCRIPTION:Wegen COVID-19 ABGESAGT. Dienstags\, um 16 Uhr im Gemeindesaal. Wir beschäftigen uns mit Grundfragen des Glaubens. Herzliche Einladung! &nbsp\;
END:VEVENT
END:VCALENDAR
