BEGIN:VCALENDAR
VERSION:2.0
PRODID:Imitheme.com 
BEGIN:VEVENT
UID:20260421T1158201124483221
DTSTAMP;TZID=UTC:20260421T115820
DTSTART;TZID=UTC:20261116T115800
DTEND;TZID=UTC:20261116T115800
SUMMARY:Gottesdienst mit Pfr. Johannes Wittich\, gleichzeitig “Kindergottesdienst to go” auf der Homepage (Kindergottesdienst-Packerl werden mit der Post verschickt.)
LOCATION:
DESCRIPTION:[caption id=\"attachment_3702\" align=\"alignnone\" width=\"225\"] Johannes Wittich[/caption] mit Pfr. Johannes Wittich und Abendmahl\, gleichzeitig \"Kindergottesdienst to go\" auf der Homepage (Kindergottesdienst-Packerl werden mit der Post verschickt.) GastgeberIn\: Gerti Seper OrganistIn\: Martin Seidl Gemeindekaffee\: Kein Gemeindekaffee &nbsp\;
END:VEVENT
END:VCALENDAR
