BEGIN:VCALENDAR
VERSION:2.0
PRODID:Imitheme.com 
BEGIN:VEVENT
UID:20260422T1104281124152065
DTSTAMP;TZID=UTC:20260422T110428
DTSTART;TZID=UTC:20261116T110400
DTEND;TZID=UTC:20261116T110400
SUMMARY:Andacht von Gerti Rohrmoser auf der Homepage
LOCATION:
DESCRIPTION:[caption id=\"attachment_2250\" align=\"alignnone\" width=\"300\"] Gerti Rohrmoser[/caption] Andacht von Gerti Rohrmoser auf der Homepage &nbsp\;
END:VEVENT
END:VCALENDAR
