BEGIN:VCALENDAR
VERSION:2.0
PRODID:Imitheme.com 
BEGIN:VEVENT
UID:20260421T1157542092329757
DTSTAMP;TZID=UTC:20260421T115754
DTSTART;TZID=UTC:20261116T115700
DTEND;TZID=UTC:20261116T115700
SUMMARY:Klausur PB und Diakonium / Wegen COVID-19 ABGESAGT
LOCATION:
DESCRIPTION: Wegen COVID-19 ABGESAGT Klausur PB und Diakonium Moderation\: Wolfgang Pehamberger &nbsp\;
END:VEVENT
END:VCALENDAR
