BEGIN:VCALENDAR
VERSION:2.0
PRODID:Imitheme.com 
BEGIN:VEVENT
UID:20260421T1157371334370806
DTSTAMP;TZID=UTC:20260421T115737
DTSTART;TZID=UTC:20261116T115700
DTEND;TZID=UTC:20261116T115700
SUMMARY:Vortrag \"Recht auf Leben – Recht auf Sterben. Die Sterbehilfe-Debatte aus evangelischer Sicht\"
LOCATION:
DESCRIPTION:&nbsp\; Einladung zum Vortrag\: \"Recht auf Leben – Recht auf Sterben. Die Sterbehilfe-Debatte aus evangelischer Sicht\" von Prof. Dr. Ulrich Heinz Jürgen Körtner\, Theologe und Medizinethiker\, Ordinarius für Systematische Theologie an der Evangelisch-Theologischen Fakultät der Universität Wien. Der Vortrag findet online als ZOOM-Meeting statt. Den Link zum Vortrag erhalten Sie...
END:VEVENT
END:VCALENDAR
