BEGIN:VCALENDAR
VERSION:2.0
PRODID:Imitheme.com 
BEGIN:VEVENT
UID:20260421T1159022107656419
DTSTAMP;TZID=UTC:20260421T115902
DTSTART;TZID=UTC:20261116T115900
DTEND;TZID=UTC:20261116T115900
SUMMARY:Penguin’s Club\, X-Mas
LOCATION:
DESCRIPTION:Penguin’s Club\: Thema\: X-Mas Derzeit ist noch offen\, ob wir uns am Wielandplatz treffen oder doch eher über Videokonferenz. Dies wird aber zeitnah bekannt gegeben. &nbsp\;
END:VEVENT
END:VCALENDAR
