BEGIN:VCALENDAR
VERSION:2.0
PRODID:Imitheme.com 
BEGIN:VEVENT
UID:20260422T1218351091099573
DTSTAMP;TZID=UTC:20260422T121835
DTSTART;TZID=UTC:20261116T121800
DTEND;TZID=UTC:20261116T121800
SUMMARY:Penguin’s Club / online
LOCATION:
DESCRIPTION:Penguin’s Club\: Thema\: Punsch trinken Derzeit ist noch offen\, ob wir uns am Wielandplatz treffen oder doch eher über Videokonferenz. Dies wird aber zeitnah bekannt gegeben. &nbsp\;
END:VEVENT
END:VCALENDAR
