BEGIN:VCALENDAR
VERSION:2.0
PRODID:Imitheme.com 
BEGIN:VEVENT
UID:20260422T110428170346862
DTSTAMP;TZID=UTC:20260422T110428
DTSTART;TZID=UTC:20261116T110400
DTEND;TZID=UTC:20261116T110400
SUMMARY:Penguin’s Club / online
LOCATION:
DESCRIPTION:Penguin’s Club\: Thema\: Palatschinken &nbsp\;
END:VEVENT
END:VCALENDAR
