BEGIN:VCALENDAR
VERSION:2.0
PRODID:Imitheme.com 
BEGIN:VEVENT
UID:20260422T121940305412705
DTSTAMP;TZID=UTC:20260422T121940
DTSTART;TZID=UTC:20261116T121900
DTEND;TZID=UTC:20261116T121900
SUMMARY:Schülergottesdienst
LOCATION:
DESCRIPTION:Schülergottesdienst &nbsp\;
END:VEVENT
END:VCALENDAR
