BEGIN:VCALENDAR
VERSION:2.0
PRODID:Imitheme.com 
BEGIN:VEVENT
UID:20260421T115923674080561
DTSTAMP;TZID=UTC:20260421T115923
DTSTART;TZID=UTC:20261116T115900
DTEND;TZID=UTC:20261116T115900
SUMMARY:Besprechung \"Pensionistenrunde\"
LOCATION:
DESCRIPTION:Besprechung \"Pensionistenrunde\" mit Inge Schintlmeister\, Jolana Antal und Franz Radner &nbsp\;
END:VEVENT
END:VCALENDAR
