BEGIN:VCALENDAR
VERSION:2.0
PRODID:Imitheme.com 
BEGIN:VEVENT
UID:20260421T1159411522706409
DTSTAMP;TZID=UTC:20260421T115941
DTSTART;TZID=UTC:20261116T115900
DTEND;TZID=UTC:20261116T115900
SUMMARY:GAV-Wien\, Delegiertenversammlung / ABGESAGT!
LOCATION:
DESCRIPTION:GAV-Wien\, Delegiertenversammlung ABGESAGT!
END:VEVENT
END:VCALENDAR
