BEGIN:VCALENDAR
VERSION:2.0
PRODID:Imitheme.com 
BEGIN:VEVENT
UID:20260421T1158221319935272
DTSTAMP;TZID=UTC:20260421T115822
DTSTART;TZID=UTC:20261116T115800
DTEND;TZID=UTC:20261116T115800
SUMMARY:EGC in Bayern / Wegen COVID-19 ABGESAGT
LOCATION:
DESCRIPTION:EGC in Bayern Wegen COVID-19 ABGESAGT
END:VEVENT
END:VCALENDAR
