BEGIN:VCALENDAR
VERSION:2.0
PRODID:Imitheme.com 
BEGIN:VEVENT
UID:20260422T1237211400651707
DTSTAMP;TZID=UTC:20260422T123721
DTSTART;TZID=UTC:20261116T123700
DTEND;TZID=UTC:20261116T123700
SUMMARY:Vortrag \"Von Qumran bis zum Haus des Petrus\"
LOCATION:
DESCRIPTION:[caption id=\"attachment_7169\" align=\"alignleft\" width=\"300\"] Quelle\: Kirchliche Hochschule Wuppertal/Bethel[/caption] &nbsp\; &nbsp\; Vortrag von Prof. Dr. Siegfried Kreuzer zum Thema “Von Qumran bis zum Haus des Petrus”. &nbsp\; [caption id=\"attachment_7170\" align=\"alignright\" width=\"239\"] Bahnfrend / CC BY-SA (https\://creativecommons.org/licenses/by-sa/4.0)[/caption] &nbsp\; &nbsp\; &nbsp\; Jahrtausende im Sand des Heiligen Landes verborgen\, wiederentdeckt und durch die neuen...
END:VEVENT
END:VCALENDAR
