BEGIN:VCALENDAR
VERSION:2.0
PRODID:Imitheme.com 
BEGIN:VEVENT
UID:20260420T1535171253453327
DTSTAMP;TZID=UTC:20260420T153517
DTSTART;TZID=UTC:20261116T153500
DTEND;TZID=UTC:20261116T153500
SUMMARY:Besprechung \"Pensionistenrunde\"
LOCATION:
DESCRIPTION:Besprechung \"Pensionistenrunde\" mit Inge Schintlmeister\, Jolana Antal und Franz Radner &nbsp\;
END:VEVENT
END:VCALENDAR
