BEGIN:VCALENDAR
VERSION:2.0
PRODID:Imitheme.com 
BEGIN:VEVENT
UID:20260420T153517748939106
DTSTAMP;TZID=UTC:20260420T153517
DTSTART;TZID=UTC:20261116T153500
DTEND;TZID=UTC:20261116T153500
SUMMARY:Frauen-Bibelgespräche / Wegen COVID-19 ABGESAGT
LOCATION:
DESCRIPTION:Dienstags\, um 16 Uhr im Gemeindesaal. Wir beschäftigen uns mit Grundfragen des Glaubens. Herzliche Einladung! Wegen COVID-19 ABGESAGT. &nbsp\;
END:VEVENT
END:VCALENDAR
