BEGIN:VCALENDAR
VERSION:2.0
PRODID:Imitheme.com 
BEGIN:VEVENT
UID:20260422T1404342031471320
DTSTAMP;TZID=UTC:20260422T140434
DTSTART;TZID=UTC:20261116T140400
DTEND;TZID=UTC:20261116T140400
SUMMARY:Ungarische Bibelstunde
LOCATION:
DESCRIPTION:Wir treffen uns mit Pfr. Károly Nagy\, immer Dienstags in unserem Gemeindesaal.
END:VEVENT
END:VCALENDAR
