BEGIN:VCALENDAR
VERSION:2.0
PRODID:Imitheme.com 
BEGIN:VEVENT
UID:20260421T115921277894048
DTSTAMP;TZID=UTC:20260421T115921
DTSTART;TZID=UTC:20261116T115900
DTEND;TZID=UTC:20261116T115900
SUMMARY:Online - Gottesdienst
LOCATION:
DESCRIPTION:Online - Gottesdienst &nbsp\;
END:VEVENT
END:VCALENDAR
