BEGIN:VCALENDAR
VERSION:2.0
PRODID:Imitheme.com 
BEGIN:VEVENT
UID:20260422T1105401655603877
DTSTAMP;TZID=UTC:20260422T110540
DTSTART;TZID=UTC:20261116T110500
DTEND;TZID=UTC:20261116T110500
SUMMARY:Gottesdienst mit Pfr. Johannes Wittich
LOCATION:
DESCRIPTION:[caption id=\"attachment_3702\" align=\"alignnone\" width=\"225\"] Johannes Wittich[/caption] mit Pfr. Johannes Wittich GastgeberIn\: G. Seper OrganistIn\: Martin Seidl Gemeindekaffee\: Kein Gemeindekaffee &nbsp\;
END:VEVENT
END:VCALENDAR
