BEGIN:VCALENDAR
VERSION:2.0
PRODID:Imitheme.com 
BEGIN:VEVENT
UID:20260422T140156765508173
DTSTAMP;TZID=UTC:20260422T140156
DTSTART;TZID=UTC:20261116T140100
DTEND;TZID=UTC:20261116T140100
SUMMARY:Besuchskreis / Wegen COVID-19 ABGESAGT
LOCATION:
DESCRIPTION:InteressentInnen mögen sich bitte zwecks vorheriger Rücksprache mit Ursula Kratky über die Pfarrkanzlei in Verbindung setzen. Wegen COVID-19 ABGESAGT. &nbsp\;
END:VEVENT
END:VCALENDAR
