BEGIN:VCALENDAR
VERSION:2.0
PRODID:Imitheme.com 
BEGIN:VEVENT
UID:20260421T115900778102535
DTSTAMP;TZID=UTC:20260421T115900
DTSTART;TZID=UTC:20261116T115900
DTEND;TZID=UTC:20261116T115900
SUMMARY:Interreligiöses Vernetzungstreffen (Videokonferenz)
LOCATION:
DESCRIPTION:&nbsp\; Die MA17 Süd für Integration und Diversität ladet Sie herzlich zum Interreligiösen Vernetzungstreffen ein. &nbsp\; Tagesordnung\: Lebensmittelausgabe Essensausgabe Erfahrungsbericht Gottesdienst Allgemeines
END:VEVENT
END:VCALENDAR
