BEGIN:VCALENDAR
VERSION:2.0
PRODID:Imitheme.com 
BEGIN:VEVENT
UID:20260421T1159231596855297
DTSTAMP;TZID=UTC:20260421T115923
DTSTART;TZID=UTC:20261116T115900
DTEND;TZID=UTC:20261116T115900
SUMMARY:Andacht mit Robert Colditz (Pfr. Johannes Wittich)
LOCATION:
DESCRIPTION:Text für Andacht und Gebet von Robert Colditz\, Pfr. Johannes Wittich steht für ein seelsorgerliches Gespräch zur Verfügung. GastgeberIn\: OrganistIn\: Kein Organist Gemeindekaffee\: Kein Gemeindekaffee &nbsp\;
END:VEVENT
END:VCALENDAR
