BEGIN:VCALENDAR
VERSION:2.0
PRODID:Imitheme.com 
BEGIN:VEVENT
UID:20260422T1229192022505413
DTSTAMP;TZID=UTC:20260422T122919
DTSTART;TZID=UTC:20261116T122900
DTEND;TZID=UTC:20261116T122900
SUMMARY:Andacht mit Pfr. Johannes Wittich
LOCATION:
DESCRIPTION:Andacht\, Gebet und seelsorgerliches Gespräch mit Pfr. Johannes Wittich. GastgeberIn\: OrganistIn\: Kein Organist Gemeindekaffee\: Kein Gemeindekaffee &nbsp\;
END:VEVENT
END:VCALENDAR
