BEGIN:VCALENDAR
VERSION:2.0
PRODID:Imitheme.com 
BEGIN:VEVENT
UID:20260421T115805171377911
DTSTAMP;TZID=UTC:20260421T115805
DTSTART;TZID=UTC:20261116T115800
DTEND;TZID=UTC:20261116T115800
SUMMARY:Gottesdienst mit Gerti Rohrmoser
LOCATION:
DESCRIPTION:[caption id=\"attachment_2250\" align=\"alignnone\" width=\"300\"] Gerti Rohrmoser[/caption] mit Gerti Rohrmoser GastgeberIn\: Horst Rebbe OrganistIn\: Johannes Wolfram Gemeindekaffee\: Kein Gemeindekaffee &nbsp\;
END:VEVENT
END:VCALENDAR
