BEGIN:VCALENDAR
VERSION:2.0
PRODID:Imitheme.com 
BEGIN:VEVENT
UID:20260421T1159221564436673
DTSTAMP;TZID=UTC:20260421T115922
DTSTART;TZID=UTC:20261116T115900
DTEND;TZID=UTC:20261116T115900
SUMMARY:Gottesdienst mit Pfr. Johannes Wittich
LOCATION:
DESCRIPTION:mit Pfr. Johannes Wittich GastgeberIn\: Gertraud Seper OrganistIn\: Martin Seidl Gemeindekaffee\: Kein Gemeindekaffe
END:VEVENT
END:VCALENDAR
