BEGIN:VCALENDAR
VERSION:2.0
PRODID:Imitheme.com 
BEGIN:VEVENT
UID:20260420T160714670730633
DTSTAMP;TZID=UTC:20260420T160714
DTSTART;TZID=UTC:20261116T160700
DTEND;TZID=UTC:20261116T160700
SUMMARY:Leitungsteam
LOCATION:
DESCRIPTION:Besprechung des Leitungsteams &nbsp\;
END:VEVENT
END:VCALENDAR
