BEGIN:VCALENDAR
VERSION:2.0
PRODID:Imitheme.com 
BEGIN:VEVENT
UID:20260422T1219072136106464
DTSTAMP;TZID=UTC:20260422T121907
DTSTART;TZID=UTC:20261116T121900
DTEND;TZID=UTC:20261116T121900
SUMMARY:Leitungsteam
LOCATION:
DESCRIPTION:Besprechung des Leitungsteams &nbsp\;
END:VEVENT
END:VCALENDAR
