BEGIN:VCALENDAR
VERSION:2.0
PRODID:Imitheme.com 
BEGIN:VEVENT
UID:20260421T1337571140452523
DTSTAMP;TZID=UTC:20260421T133757
DTSTART;TZID=UTC:20261116T133700
DTEND;TZID=UTC:20261116T133700
SUMMARY:Presbyterium -  Besprechung (Videokonferenz)
LOCATION:
DESCRIPTION:Presbyterium - Besprechung per Videokonferenz (Organisator\: Thomas Schuster) &nbsp\;
END:VEVENT
END:VCALENDAR
