BEGIN:VCALENDAR
VERSION:2.0
PRODID:Imitheme.com 
BEGIN:VEVENT
UID:20260421T115902492610720
DTSTAMP;TZID=UTC:20260421T115902
DTSTART;TZID=UTC:20261116T115900
DTEND;TZID=UTC:20261116T115900
SUMMARY:Evangelischer Frühlingsball / Wegen COVID-19 ABGESAGT!
LOCATION:
DESCRIPTION:Wegen COVID-19 ABGESAGT!
END:VEVENT
END:VCALENDAR
