BEGIN:VCALENDAR
VERSION:2.0
PRODID:Imitheme.com 
BEGIN:VEVENT
UID:20260422T122821758418865
DTSTAMP;TZID=UTC:20260422T122821
DTSTART;TZID=UTC:20261116T122800
DTEND;TZID=UTC:20261116T122800
SUMMARY:Sommer Flohmarkt / Wegen COVID-19 ABGESAGT!
LOCATION:
DESCRIPTION:Wegen COVID-19 ABGESAGT! &nbsp\;
END:VEVENT
END:VCALENDAR
