BEGIN:VCALENDAR
VERSION:2.0
PRODID:Imitheme.com 
BEGIN:VEVENT
UID:20260421T1336231527890200
DTSTAMP;TZID=UTC:20260421T133623
DTSTART;TZID=UTC:20261116T133600
DTEND;TZID=UTC:20261116T133600
SUMMARY:Aktive Senioren\: Lustiger Faschingsnachmittag
LOCATION:
DESCRIPTION:&nbsp\;
END:VEVENT
END:VCALENDAR
