BEGIN:VCALENDAR
VERSION:2.0
PRODID:Imitheme.com 
BEGIN:VEVENT
UID:20260422T122806543995192
DTSTAMP;TZID=UTC:20260422T122806
DTSTART;TZID=UTC:20261116T122800
DTEND;TZID=UTC:20261116T122800
SUMMARY:Aktive Senioren\: Exkursion\: Kaiserliche Wagenburg / Wegen COVID-19 ABGESAGT!
LOCATION:
DESCRIPTION:Aktive Senioren\: Exkursion\: Kaiserliche Wagenburg Details und Anmeldung in der Pfarrkanzlei Schweglerstr. 39\, 1150 Wien. Wegen COVID-19 ABGESAGT! &nbsp\;
END:VEVENT
END:VCALENDAR
