BEGIN:VCALENDAR
VERSION:2.0
PRODID:Imitheme.com 
BEGIN:VEVENT
UID:20260425T200511940911252
DTSTAMP;TZID=UTC:20260425T200511
DTSTART;TZID=UTC:20261116T200500
DTEND;TZID=UTC:20261116T200500
SUMMARY:Presbyteriumssitzung
LOCATION:
DESCRIPTION:Presbyteriumssitzung &nbsp\;
END:VEVENT
END:VCALENDAR
