BEGIN:VCALENDAR
VERSION:2.0
PRODID:Imitheme.com 
BEGIN:VEVENT
UID:20260421T115753102219968
DTSTAMP;TZID=UTC:20260421T115753
DTSTART;TZID=UTC:20261116T115700
DTEND;TZID=UTC:20261116T115700
SUMMARY:Taiwanesischer Chor\, Chorprobe
LOCATION:
DESCRIPTION:Chorprobe des taiwanesischen Chors &nbsp\;
END:VEVENT
END:VCALENDAR
