BEGIN:VCALENDAR
VERSION:2.0
PRODID:Imitheme.com 
BEGIN:VEVENT
UID:20260421T1157521978543677
DTSTAMP;TZID=UTC:20260421T115752
DTSTART;TZID=UTC:20261116T115700
DTEND;TZID=UTC:20261116T115700
SUMMARY:Taiwanesischer Chor\, Chorprobe / Wegen COVID-19 ABGESAGT!
LOCATION:
DESCRIPTION:Chorprobe des taiwanesischen Chors / Wegen COVID-19 ABGESAGT! &nbsp\;
END:VEVENT
END:VCALENDAR
