BEGIN:VCALENDAR
VERSION:2.0
PRODID:Imitheme.com 
BEGIN:VEVENT
UID:20260421T115941446042763
DTSTAMP;TZID=UTC:20260421T115941
DTSTART;TZID=UTC:20261116T115900
DTEND;TZID=UTC:20261116T115900
SUMMARY:Karfreitag\: Frist für Feiertags-Anmeldung
LOCATION:
DESCRIPTION:Karfreitag\: Frist für Feiertags-Anmeldung endet am 10. Jänner &nbsp\; Sie müssen Ihren persönlichen Feiertag bis zum 10. nuar 2020 bei Ihrem Dienstgeber schriftlich anmelden. Stärken Sie die evangelischen Kirchen in ihrem Bestreben nach einem Feiertag für Alle. [maxbutton id=\"1\" url=\"http\://www.hb-wiensued.at/wp-content/uploads/2019/12/Musterbrief_persoenlicher_Feiertag.pdf\" text=\"Musterbrief\" ]
END:VEVENT
END:VCALENDAR
