BEGIN:VCALENDAR
VERSION:2.0
PRODID:Imitheme.com 
BEGIN:VEVENT
UID:20260422T123823830574715
DTSTAMP;TZID=UTC:20260422T123823
DTSTART;TZID=UTC:20261116T123800
DTEND;TZID=UTC:20261116T123800
SUMMARY:Gottesdienst\, gestaltet vom Besuchskreis
LOCATION:
DESCRIPTION:mit Gerti Rohrmoser und Ursula Kratky GastgeberIn\: F. Radner OrganistIn\: J. Schleehahn Gemeindekaffee\: E. Baumgartner &nbsp\;
END:VEVENT
END:VCALENDAR
