BEGIN:VCALENDAR
VERSION:2.0
PRODID:Imitheme.com 
BEGIN:VEVENT
UID:20260421T1158041358901332
DTSTAMP;TZID=UTC:20260421T115804
DTSTART;TZID=UTC:20261116T115800
DTEND;TZID=UTC:20261116T115800
SUMMARY:Christliche BEGEGNUNGstage 2020 / Wegen COVID-19 ABGESAGT!
LOCATION:
DESCRIPTION:Christliche BEGEGNUNGstage 2020 &nbsp\; Wegen COVID-19 ABGESAGT! Die Christlichen BEGEGNUNGstage sind ein europäisches Ereignis mit Tradition! Nach dem Fall des „Eisernen Vorhangs“ haben evangelische Christinnen und Christen der lutherischen Kirchen aus Deutschland\, Polen und der Tschechischen Republik im Jahr 1991 erstmalig einen Ort des Austausches geschaffen. Auch mehr als 25...
END:VEVENT
END:VCALENDAR
