BEGIN:VCALENDAR
VERSION:2.0
PRODID:Imitheme.com 
BEGIN:VEVENT
UID:20260421T115819455327223
DTSTAMP;TZID=UTC:20260421T115819
DTSTART;TZID=UTC:20261116T115800
DTEND;TZID=UTC:20261116T115800
SUMMARY:Seniorenclub
LOCATION:
DESCRIPTION:Seniorenclub &nbsp\;
END:VEVENT
END:VCALENDAR
